BEGIN:VCALENDAR
VERSION:2.0
PRODID:SchoolNow
CALSCALE:GREGORIAN
BEGIN:VEVENT
UID:459694a6-2e95-11f1-9bdd-0afff2acc7c1
DTSTAMP:20260420T065509Z
SUMMARY:Spring Break
URL;VALUE=URI:https://www.uticaschools.org/schools/king/calendar/8965530/sp
 ring-break
DTSTART;VALUE=DATE:20260413
DTEND;VALUE=DATE:20260414
END:VEVENT
END:VCALENDAR
