BEGIN:VCALENDAR
VERSION:2.0
PRODID:SchoolNow
CALSCALE:GREGORIAN
BEGIN:VEVENT
UID:6777c4f4-3fe9-11f1-aff6-0ea0019768d3
DTSTAMP:20260424T142512Z
SUMMARY:Field Trip - Grade 3/4 - Nexus Center
URL;VALUE=URI:https://www.uticaschools.org/schools/kernan/calendar/9016568/
 field-trip-grade-3-4-nexus-center
DTSTART:20260507T133000Z
DTEND:20260507T140000Z
END:VEVENT
END:VCALENDAR
