BEGIN:VCALENDAR
VERSION:2.0
PRODID:SchoolNow
CALSCALE:GREGORIAN
BEGIN:VEVENT
UID:721c28e4-2c72-11f1-841e-0affdccbbbf1
DTSTAMP:20260330T195547Z
SUMMARY:MAKEUP SAT School Day - JUNIORS
URL;VALUE=URI:https://www.uticaschools.org/departments/guidance-counseling-
 services/calendar/8958083/makeup-sat-school-day-juniors
DTSTART:20260422T120000Z
DTEND:20260422T153000Z
END:VEVENT
END:VCALENDAR
