BEGIN:VCALENDAR
VERSION:2.0
PRODID:SchoolNow
CALSCALE:GREGORIAN
BEGIN:VEVENT
UID:2479d75e-1f1a-11f1-8071-0a58a9feac02
DTSTAMP:20260330T195547Z
SUMMARY:Living Env. REGENTS EXAM
URL;VALUE=URI:https://www.uticaschools.org/departments/guidance-counseling-
 services/calendar/8915524/living-env-regents-exam
DTSTART:20260618T120000Z
DTEND:20260618T140000Z
END:VEVENT
END:VCALENDAR
