BEGIN:VCALENDAR
VERSION:2.0
PRODID:SchoolNow
CALSCALE:GREGORIAN
BEGIN:VEVENT
UID:34a24260-dd8f-11ef-a773-0e956362e35d
DTSTAMP:20250128T154740Z
SUMMARY:(B) V Bowling - Practice (3:15 PM)
LOCATION:Vista Lanes
URL;VALUE=URI:https://www.uticaschools.org/departments/athletics/calendar/7
 387750/b-v-bowling-practice-3-15-pm
DTSTART:20250131T201500Z
DTEND:20250131T220000Z
END:VEVENT
END:VCALENDAR
