BEGIN:VCALENDAR
VERSION:2.0
PRODID:SchoolNow
CALSCALE:GREGORIAN
BEGIN:VEVENT
UID:3112e9b0-dd8f-11ef-833e-0e956362e35d
DTSTAMP:20250128T154734Z
SUMMARY:MVCC Softball @ PHS Softball "TURF " Field (11:00 AM)
LOCATION:PHS Softball "TURF " Field
URL;VALUE=URI:https://www.uticaschools.org/departments/athletics/calendar/7
 387030/mvcc-softball-phs-softball-turf-field-11-00-am
DTSTART:20241013T150000Z
DTEND:20241013T210000Z
END:VEVENT
END:VCALENDAR
