BEGIN:VCALENDAR
VERSION:2.0
PRODID:SchoolNow
CALSCALE:GREGORIAN
BEGIN:VEVENT
UID:309c77ee-dd8f-11ef-a7d6-0e956362e35d
DTSTAMP:20250128T154733Z
SUMMARY:Boys Junior Varsity Basketball @ Fayetteville-Manlius
LOCATION:FM HS House 1 Gym
URL;VALUE=URI:https://www.uticaschools.org/departments/athletics/calendar/7
 386877/boys-junior-varsity-basketball-fayetteville-manlius
DTSTART:20250113T221500Z
DTEND:20250113T234500Z
END:VEVENT
END:VCALENDAR
