BEGIN:VCALENDAR
VERSION:2.0
PRODID:SchoolNow
CALSCALE:GREGORIAN
BEGIN:VEVENT
UID:2fbec5d4-dd8f-11ef-872d-0e956362e35d
DTSTAMP:20250128T154732Z
SUMMARY:CANCELLED: Boys 7th/8th Wrestling Vernon-Verona-Sherrill @ Camden
LOCATION:Camden High School Main Gym
URL;VALUE=URI:https://www.uticaschools.org/departments/athletics/calendar/7
 386690/cancelled-boys-7th-8th-wrestling-vernon-verona-sherrill-camden
DTSTART:20250129T211500Z
DTEND:20250129T221500Z
END:VEVENT
END:VCALENDAR
