BEGIN:VCALENDAR
VERSION:2.0
PRODID:SchoolNow
CALSCALE:GREGORIAN
BEGIN:VEVENT
UID:2ef2e22a-dd8f-11ef-8e3c-0e956362e35d
DTSTAMP:20250128T154730Z
SUMMARY:Girls Junior Varsity Volleyball @ New Hartford
LOCATION:New Hartford HS Gym
URL;VALUE=URI:https://www.uticaschools.org/departments/athletics/calendar/7
 386500/girls-junior-varsity-volleyball-new-hartford
DTSTART:20250129T150000Z
DTEND:20250129T160000Z
END:VEVENT
END:VCALENDAR
