BEGIN:VCALENDAR
VERSION:2.0
PRODID:SchoolNow
CALSCALE:GREGORIAN
BEGIN:VEVENT
UID:2ef2d578-dd8f-11ef-9080-0e956362e35d
DTSTAMP:20250128T154730Z
SUMMARY:Girls Junior Varsity Volleyball v. Rome Free Academy
LOCATION:PHS AUX Gym (Volleyball gym)
URL;VALUE=URI:https://www.uticaschools.org/departments/athletics/calendar/7
 386492/girls-junior-varsity-volleyball-v-rome-free-academy
DTSTART:20250130T223000Z
DTEND:20250130T233000Z
END:VEVENT
END:VCALENDAR
