BEGIN:VCALENDAR
VERSION:2.0
PRODID:SchoolNow
CALSCALE:GREGORIAN
BEGIN:VEVENT
UID:2e8d342a-dd8f-11ef-9289-0e956362e35d
DTSTAMP:20250128T154730Z
SUMMARY:(G) JV Soccer - Practice (3:15 PM)
URL;VALUE=URI:https://www.uticaschools.org/departments/athletics/calendar/7
 386413/g-jv-soccer-practice-3-15-pm
DTSTART:20241014T191500Z
DTEND:20241014T211500Z
END:VEVENT
END:VCALENDAR
