BEGIN:VCALENDAR
VERSION:2.0
PRODID:SchoolNow
CALSCALE:GREGORIAN
BEGIN:VEVENT
UID:2d3801c2-dd8f-11ef-a5e6-0e956362e35d
DTSTAMP:20250128T154728Z
SUMMARY:Girls Junior Varsity Soccer v. New Hartford
LOCATION:PHS Grass Soccer Field
URL;VALUE=URI:https://www.uticaschools.org/departments/athletics/calendar/7
 386071/girls-junior-varsity-soccer-v-new-hartford
DTSTART:20241002T200000Z
DTEND:20241002T215500Z
END:VEVENT
END:VCALENDAR
